Package: GSRI Version: 2.54.0 Command: /Library/Frameworks/R.framework/Resources/bin/R CMD INSTALL GSRI StartedAt: 2025-03-31 17:09:22 -0400 (Mon, 31 Mar 2025) EndedAt: 2025-03-31 17:09:44 -0400 (Mon, 31 Mar 2025) EllapsedTime: 22.2 seconds RetCode: 0 Status: OK