Package: GSRI Version: 2.54.0 Command: /Library/Frameworks/R.framework/Resources/bin/R CMD check --install=check:GSRI.install-out.txt --library=/Library/Frameworks/R.framework/Resources/library --no-vignettes --timings GSRI_2.54.0.tar.gz StartedAt: 2025-04-01 21:21:07 -0400 (Tue, 01 Apr 2025) EndedAt: 2025-04-01 21:23:45 -0400 (Tue, 01 Apr 2025) EllapsedTime: 158.4 seconds RetCode: 0 Status: OK CheckDir: GSRI.Rcheck Warnings: 0