Package: GSEAlm Version: 1.66.0 Command: /Library/Frameworks/R.framework/Resources/bin/R CMD check --install=check:GSEAlm.install-out.txt --library=/Library/Frameworks/R.framework/Resources/library --no-vignettes --timings GSEAlm_1.66.0.tar.gz StartedAt: 2025-04-01 04:00:10 -0400 (Tue, 01 Apr 2025) EndedAt: 2025-04-01 04:00:59 -0400 (Tue, 01 Apr 2025) EllapsedTime: 49.6 seconds RetCode: 0 Status: OK CheckDir: GSEAlm.Rcheck Warnings: 0