Package: GSEABase Version: 1.68.0 Command: chmod a+r GSEABase -R && F:\biocbuild\bbs-3.20-bioc\R\bin\R.exe CMD build --keep-empty-dirs --no-resave-data GSEABase StartedAt: 2025-03-31 19:24:17 -0400 (Mon, 31 Mar 2025) EndedAt: 2025-03-31 19:26:10 -0400 (Mon, 31 Mar 2025) EllapsedTime: 113.3 seconds RetCode: 0 Status: OK PackageFile: GSEABase_1.68.0.tar.gz PackageFileSize: 292.8 KiB