Package: GSEABase Version: 1.68.0 Command: rm -rf GSEABase.buildbin-libdir && mkdir GSEABase.buildbin-libdir && /Users/biocbuild/BBS/utils/build-universal.sh GSEABase_1.68.0.tar.gz /Library/Frameworks/R.framework/Resources/bin/R GSEABase.buildbin-libdir StartedAt: 2025-04-02 14:39:02 -0400 (Wed, 02 Apr 2025) EndedAt: 2025-04-02 14:39:26 -0400 (Wed, 02 Apr 2025) EllapsedTime: 23.8 seconds RetCode: 0 Status: OK PackageFile: GSEABase_1.68.0.tgz PackageFileSize: 1018 KiB