Package: GSCA Version: 2.36.0 Command: /home/biocbuild/R/R/bin/R CMD INSTALL GSCA StartedAt: 2025-03-31 20:42:59 -0000 (Mon, 31 Mar 2025) EndedAt: 2025-03-31 20:43:06 -0000 (Mon, 31 Mar 2025) EllapsedTime: 7.0 seconds RetCode: 0 Status: OK