Package: GSCA Version: 2.36.0 Command: /Library/Frameworks/R.framework/Resources/bin/R CMD INSTALL GSCA StartedAt: 2025-03-31 15:51:53 -0400 (Mon, 31 Mar 2025) EndedAt: 2025-03-31 15:52:06 -0400 (Mon, 31 Mar 2025) EllapsedTime: 12.5 seconds RetCode: 0 Status: OK