Package: GSAR Version: 1.40.0 Command: /Library/Frameworks/R.framework/Resources/bin/R CMD INSTALL GSAR StartedAt: 2025-03-31 15:06:19 -0400 (Mon, 31 Mar 2025) EndedAt: 2025-03-31 15:06:33 -0400 (Mon, 31 Mar 2025) EllapsedTime: 14.4 seconds RetCode: 0 Status: OK