Package: GRmetrics Version: 1.32.0 Command: /home/biocbuild/R/R/bin/R CMD INSTALL GRmetrics StartedAt: 2025-03-31 20:55:43 -0000 (Mon, 31 Mar 2025) EndedAt: 2025-03-31 20:56:09 -0000 (Mon, 31 Mar 2025) EllapsedTime: 25.7 seconds RetCode: 0 Status: OK