Package: GRmetrics Version: 1.32.0 Command: /home/biocbuild/bbs-3.20-bioc/R/bin/R CMD check --install=check:GRmetrics.install-out.txt --library=/home/biocbuild/bbs-3.20-bioc/R/site-library --timings GRmetrics_1.32.0.tar.gz StartedAt: 2025-03-31 22:45:18 -0400 (Mon, 31 Mar 2025) EndedAt: 2025-03-31 22:47:35 -0400 (Mon, 31 Mar 2025) EllapsedTime: 136.2 seconds RetCode: 0 Status: OK CheckDir: GRmetrics.Rcheck Warnings: 0