Package: GRmetrics Version: 1.32.0 Command: /Library/Frameworks/R.framework/Resources/bin/R CMD build --keep-empty-dirs --no-resave-data GRmetrics StartedAt: 2025-04-01 00:47:51 -0400 (Tue, 01 Apr 2025) EndedAt: 2025-04-01 00:48:48 -0400 (Tue, 01 Apr 2025) EllapsedTime: 56.7 seconds RetCode: 0 Status: OK PackageFile: GRmetrics_1.32.0.tar.gz PackageFileSize: 1.936 MiB