Package: GRaNIE Version: 1.10.0 Command: /home/biocbuild/R/R/bin/R CMD check --install=check:GRaNIE.install-out.txt --library=/home/biocbuild/R/R/site-library --no-vignettes --timings GRaNIE_1.10.0.tar.gz StartedAt: 2025-04-01 07:09:00 -0000 (Tue, 01 Apr 2025) EndedAt: 2025-04-01 07:17:42 -0000 (Tue, 01 Apr 2025) EllapsedTime: 521.6 seconds RetCode: 0 Status: OK CheckDir: GRaNIE.Rcheck Warnings: 0