Package: GRaNIE Version: 1.10.0 Command: /home/biocbuild/R/R/bin/R CMD build --keep-empty-dirs --no-resave-data GRaNIE StartedAt: 2025-03-31 23:58:55 -0000 (Mon, 31 Mar 2025) EndedAt: 2025-04-01 00:05:09 -0000 (Tue, 01 Apr 2025) EllapsedTime: 374.4 seconds RetCode: 0 Status: OK PackageFile: GRaNIE_1.10.0.tar.gz PackageFileSize: 4.258 MiB