Package: GRaNIE Version: 1.10.0 Command: /Library/Frameworks/R.framework/Resources/bin/R CMD INSTALL GRaNIE StartedAt: 2025-03-31 15:46:06 -0400 (Mon, 31 Mar 2025) EndedAt: 2025-03-31 15:47:52 -0400 (Mon, 31 Mar 2025) EllapsedTime: 105.4 seconds RetCode: 0 Status: OK