Package: GOstats Version: 2.72.0 Command: /Library/Frameworks/R.framework/Resources/bin/R CMD INSTALL GOstats StartedAt: 2025-03-31 16:10:35 -0400 (Mon, 31 Mar 2025) EndedAt: 2025-03-31 16:11:21 -0400 (Mon, 31 Mar 2025) EllapsedTime: 46.1 seconds RetCode: 0 Status: OK