Package: GOfuncR Version: 1.26.0 Command: /home/biocbuild/R/R/bin/R CMD build --keep-empty-dirs --no-resave-data GOfuncR StartedAt: 2025-03-31 23:54:23 -0000 (Mon, 31 Mar 2025) EndedAt: 2025-03-31 23:59:22 -0000 (Mon, 31 Mar 2025) EllapsedTime: 299.2 seconds RetCode: 0 Status: OK PackageFile: GOfuncR_1.26.0.tar.gz PackageFileSize: 4.869 MiB