Package: GOexpress Version: 1.40.0 Command: /home/biocbuild/R/R/bin/R CMD INSTALL GOexpress StartedAt: 2025-03-31 20:38:57 -0000 (Mon, 31 Mar 2025) EndedAt: 2025-03-31 20:39:21 -0000 (Mon, 31 Mar 2025) EllapsedTime: 24.1 seconds RetCode: 0 Status: OK