Package: GOexpress Version: 1.40.0 Command: /home/biocbuild/bbs-3.20-bioc/R/bin/R CMD check --install=check:GOexpress.install-out.txt --library=/home/biocbuild/bbs-3.20-bioc/R/site-library --timings GOexpress_1.40.0.tar.gz StartedAt: 2025-03-31 22:39:50 -0400 (Mon, 31 Mar 2025) EndedAt: 2025-03-31 22:42:02 -0400 (Mon, 31 Mar 2025) EllapsedTime: 132.1 seconds RetCode: 0 Status: WARNINGS CheckDir: GOexpress.Rcheck Warnings: 1