Package: GOexpress Version: 1.40.0 Command: /Library/Frameworks/R.framework/Resources/bin/R CMD INSTALL GOexpress StartedAt: 2025-03-31 16:24:15 -0400 (Mon, 31 Mar 2025) EndedAt: 2025-03-31 16:24:36 -0400 (Mon, 31 Mar 2025) EllapsedTime: 20.9 seconds RetCode: 0 Status: OK