Package: GOexpress Version: 1.40.0 Command: /Library/Frameworks/R.framework/Resources/bin/R CMD build --keep-empty-dirs --no-resave-data GOexpress StartedAt: 2025-04-01 00:33:00 -0400 (Tue, 01 Apr 2025) EndedAt: 2025-04-01 00:33:47 -0400 (Tue, 01 Apr 2025) EllapsedTime: 46.9 seconds RetCode: 0 Status: OK PackageFile: GOexpress_1.40.0.tar.gz PackageFileSize: 2.345 MiB