Package: GOTHiC Version: 1.42.0 Command: /home/biocbuild/R/R/bin/R CMD INSTALL GOTHiC StartedAt: 2025-03-31 20:36:36 -0000 (Mon, 31 Mar 2025) EndedAt: 2025-03-31 20:37:23 -0000 (Mon, 31 Mar 2025) EllapsedTime: 47.1 seconds RetCode: 0 Status: OK