Package: GOTHiC Version: 1.42.0 Command: F:\biocbuild\bbs-3.20-bioc\R\bin\R.exe CMD INSTALL GOTHiC StartedAt: 2025-03-31 16:27:09 -0400 (Mon, 31 Mar 2025) EndedAt: 2025-03-31 16:27:55 -0400 (Mon, 31 Mar 2025) EllapsedTime: 46.5 seconds RetCode: 0 Status: OK