Package: GOTHiC Version: 1.42.0 Command: /Library/Frameworks/R.framework/Resources/bin/R CMD INSTALL GOTHiC StartedAt: 2025-03-31 15:41:34 -0400 (Mon, 31 Mar 2025) EndedAt: 2025-03-31 15:42:53 -0400 (Mon, 31 Mar 2025) EllapsedTime: 79.1 seconds RetCode: 0 Status: OK