Package: GOTHiC Version: 1.42.0 Command: /Library/Frameworks/R.framework/Resources/bin/R CMD build --keep-empty-dirs --no-resave-data GOTHiC StartedAt: 2025-04-01 00:39:44 -0400 (Tue, 01 Apr 2025) EndedAt: 2025-04-01 00:40:34 -0400 (Tue, 01 Apr 2025) EllapsedTime: 50.3 seconds RetCode: 0 Status: OK PackageFile: GOTHiC_1.42.0.tar.gz PackageFileSize: 1.697 MiB