Package: GOSemSim Version: 2.32.0 Command: /home/biocbuild/R/R/bin/R CMD build --keep-empty-dirs --no-resave-data GOSemSim StartedAt: 2025-03-31 23:55:12 -0000 (Mon, 31 Mar 2025) EndedAt: 2025-03-31 23:55:45 -0000 (Mon, 31 Mar 2025) EllapsedTime: 33.0 seconds RetCode: 0 Status: OK PackageFile: GOSemSim_2.32.0.tar.gz PackageFileSize: 596.1 KiB