Package: GOSemSim Version: 2.32.0 Command: rm -rf GOSemSim.buildbin-libdir && mkdir GOSemSim.buildbin-libdir && /Users/biocbuild/BBS/utils/build-universal.sh GOSemSim_2.32.0.tar.gz /Library/Frameworks/R.framework/Resources/bin/R GOSemSim.buildbin-libdir StartedAt: 2025-04-01 11:59:48 -0400 (Tue, 01 Apr 2025) EndedAt: 2025-04-01 12:00:42 -0400 (Tue, 01 Apr 2025) EllapsedTime: 53.2 seconds RetCode: 0 Status: OK PackageFile: GOSemSim_2.32.0.tgz PackageFileSize: 1.143 MiB