Package: GMRP Version: 1.34.0 Command: /home/biocbuild/bbs-3.20-bioc/R/bin/R CMD INSTALL GMRP StartedAt: 2025-03-31 15:17:04 -0400 (Mon, 31 Mar 2025) EndedAt: 2025-03-31 15:17:13 -0400 (Mon, 31 Mar 2025) EllapsedTime: 9.3 seconds RetCode: 0 Status: OK