Package: GMRP Version: 1.34.0 Command: rm -rf GMRP.buildbin-libdir && mkdir GMRP.buildbin-libdir && /Users/biocbuild/BBS/utils/build-universal.sh GMRP_1.34.0.tar.gz /Library/Frameworks/R.framework/Resources/bin/R GMRP.buildbin-libdir StartedAt: 2025-04-01 11:59:26 -0400 (Tue, 01 Apr 2025) EndedAt: 2025-04-01 11:59:48 -0400 (Tue, 01 Apr 2025) EllapsedTime: 22.9 seconds RetCode: 0 Status: OK PackageFile: GMRP_1.34.0.tgz PackageFileSize: 978.4 KiB