Package: GMRP Version: 1.34.0 Command: /Library/Frameworks/R.framework/Resources/bin/R CMD check --install=check:GMRP.install-out.txt --library=/Library/Frameworks/R.framework/Resources/library --no-vignettes --timings GMRP_1.34.0.tar.gz StartedAt: 2025-04-01 20:54:27 -0400 (Tue, 01 Apr 2025) EndedAt: 2025-04-01 20:55:50 -0400 (Tue, 01 Apr 2025) EllapsedTime: 83.5 seconds RetCode: 0 Status: OK CheckDir: GMRP.Rcheck Warnings: 0