Package: GLAD Version: 2.70.0 Command: /home/biocbuild/R/R/bin/R CMD check --install=check:GLAD.install-out.txt --library=/home/biocbuild/R/R/site-library --no-vignettes --timings GLAD_2.70.0.tar.gz StartedAt: 2025-04-01 07:01:10 -0000 (Tue, 01 Apr 2025) EndedAt: 2025-04-01 07:02:45 -0000 (Tue, 01 Apr 2025) EllapsedTime: 95.1 seconds RetCode: 0 Status: WARNINGS CheckDir: GLAD.Rcheck Warnings: 2