Package: GLAD Version: 2.70.0 Command: /home/biocbuild/bbs-3.20-bioc/R/bin/R CMD check --install=check:GLAD.install-out.txt --library=/home/biocbuild/bbs-3.20-bioc/R/site-library --timings GLAD_2.70.0.tar.gz StartedAt: 2025-03-31 22:37:08 -0400 (Mon, 31 Mar 2025) EndedAt: 2025-03-31 22:37:36 -0400 (Mon, 31 Mar 2025) EllapsedTime: 28.0 seconds RetCode: 0 Status: WARNINGS CheckDir: GLAD.Rcheck Warnings: 2