Package: GLAD Version: 2.70.0 Command: /home/biocbuild/bbs-3.20-bioc/R/bin/R CMD build --keep-empty-dirs --no-resave-data --md5 GLAD StartedAt: 2025-03-31 17:26:32 -0400 (Mon, 31 Mar 2025) EndedAt: 2025-03-31 17:26:50 -0400 (Mon, 31 Mar 2025) EllapsedTime: 18.0 seconds RetCode: 0 Status: OK PackageFile: GLAD_2.70.0.tar.gz PackageFileSize: 1.306 MiB