Package: GGPA Version: 1.18.0 Command: /home/biocbuild/R/R/bin/R CMD INSTALL GGPA StartedAt: 2025-03-31 20:22:15 -0000 (Mon, 31 Mar 2025) EndedAt: 2025-03-31 20:23:08 -0000 (Mon, 31 Mar 2025) EllapsedTime: 52.7 seconds RetCode: 0 Status: OK