Package: GGPA Version: 1.18.0 Command: chmod a+r GGPA -R && F:\biocbuild\bbs-3.20-bioc\R\bin\R.exe CMD build --keep-empty-dirs --no-resave-data GGPA StartedAt: 2025-03-31 19:15:45 -0400 (Mon, 31 Mar 2025) EndedAt: 2025-03-31 19:17:28 -0400 (Mon, 31 Mar 2025) EllapsedTime: 103.6 seconds RetCode: 0 Status: OK PackageFile: GGPA_1.18.0.tar.gz PackageFileSize: 4.59 MiB