Package: GEWIST Version: 1.50.0 Command: /home/biocbuild/R/R/bin/R CMD INSTALL GEWIST StartedAt: 2025-03-31 20:54:54 -0000 (Mon, 31 Mar 2025) EndedAt: 2025-03-31 20:54:57 -0000 (Mon, 31 Mar 2025) EllapsedTime: 3.4 seconds RetCode: 0 Status: OK