Package: GEOsubmission Version: 1.58.0 Command: /home/biocbuild/R/R/bin/R CMD build --keep-empty-dirs --no-resave-data GEOsubmission StartedAt: 2025-03-31 23:45:59 -0000 (Mon, 31 Mar 2025) EndedAt: 2025-03-31 23:46:06 -0000 (Mon, 31 Mar 2025) EllapsedTime: 7.0 seconds RetCode: 0 Status: OK PackageFile: GEOsubmission_1.58.0.tar.gz PackageFileSize: 186.3 KiB