Package: GEOsubmission Version: 1.58.0 Command: /Library/Frameworks/R.framework/Resources/bin/R CMD INSTALL GEOsubmission StartedAt: 2025-03-31 15:07:05 -0400 (Mon, 31 Mar 2025) EndedAt: 2025-03-31 15:07:15 -0400 (Mon, 31 Mar 2025) EllapsedTime: 10.3 seconds RetCode: 0 Status: OK