Package: GEOmetadb Version: 1.68.1 Command: /home/biocbuild/R/R/bin/R CMD INSTALL GEOmetadb StartedAt: 2025-03-31 20:25:01 -0000 (Mon, 31 Mar 2025) EndedAt: 2025-03-31 20:25:06 -0000 (Mon, 31 Mar 2025) EllapsedTime: 5.1 seconds RetCode: 0 Status: OK