Package: GEOmetadb Version: 1.68.1 Command: /home/biocbuild/bbs-3.20-bioc/R/bin/R CMD build --keep-empty-dirs --no-resave-data --md5 GEOmetadb StartedAt: 2025-03-31 17:24:17 -0400 (Mon, 31 Mar 2025) EndedAt: 2025-03-31 17:24:35 -0400 (Mon, 31 Mar 2025) EllapsedTime: 18.0 seconds RetCode: 0 Status: OK PackageFile: GEOmetadb_1.68.1.tar.gz PackageFileSize: 638.5 KiB