Package: GEOmetadb Version: 1.68.1 Command: rm -rf GEOmetadb.buildbin-libdir && mkdir GEOmetadb.buildbin-libdir && /Users/biocbuild/BBS/utils/build-universal.sh GEOmetadb_1.68.1.tar.gz /Library/Frameworks/R.framework/Resources/bin/R GEOmetadb.buildbin-libdir StartedAt: 2025-04-02 14:32:07 -0400 (Wed, 02 Apr 2025) EndedAt: 2025-04-02 14:32:13 -0400 (Wed, 02 Apr 2025) EllapsedTime: 5.6 seconds RetCode: 0 Status: OK PackageFile: GEOmetadb_1.68.1.tgz PackageFileSize: 529.7 KiB