Package: GEOfastq Version: 1.14.0 Command: /home/biocbuild/bbs-3.20-bioc/R/bin/R CMD check --install=check:GEOfastq.install-out.txt --library=/home/biocbuild/bbs-3.20-bioc/R/site-library --timings GEOfastq_1.14.0.tar.gz StartedAt: 2025-03-31 22:32:02 -0400 (Mon, 31 Mar 2025) EndedAt: 2025-03-31 22:32:51 -0400 (Mon, 31 Mar 2025) EllapsedTime: 48.1 seconds RetCode: 0 Status: OK CheckDir: GEOfastq.Rcheck Warnings: 0