Package: GEOfastq Version: 1.14.0 Command: /Library/Frameworks/R.framework/Resources/bin/R CMD INSTALL GEOfastq StartedAt: 2025-03-31 15:11:05 -0400 (Mon, 31 Mar 2025) EndedAt: 2025-03-31 15:11:27 -0400 (Mon, 31 Mar 2025) EllapsedTime: 21.8 seconds RetCode: 0 Status: OK