Package: GEOfastq Version: 1.14.0 Command: /Library/Frameworks/R.framework/Resources/bin/R CMD check --install=check:GEOfastq.install-out.txt --library=/Library/Frameworks/R.framework/Resources/library --no-vignettes --timings GEOfastq_1.14.0.tar.gz StartedAt: 2025-04-01 03:37:12 -0400 (Tue, 01 Apr 2025) EndedAt: 2025-04-01 03:39:17 -0400 (Tue, 01 Apr 2025) EllapsedTime: 124.9 seconds RetCode: 0 Status: OK CheckDir: GEOfastq.Rcheck Warnings: 0