Package: GEOexplorer Version: 1.12.0 Command: /home/biocbuild/R/R/bin/R CMD INSTALL GEOexplorer StartedAt: 2025-03-31 21:09:25 -0000 (Mon, 31 Mar 2025) EndedAt: 2025-03-31 21:10:22 -0000 (Mon, 31 Mar 2025) EllapsedTime: 57.6 seconds RetCode: 0 Status: OK