Package: GEOexplorer Version: 1.12.0 Command: /home/biocbuild/R/R/bin/R CMD build --keep-empty-dirs --no-resave-data GEOexplorer StartedAt: 2025-03-31 23:44:29 -0000 (Mon, 31 Mar 2025) EndedAt: 2025-03-31 23:45:52 -0000 (Mon, 31 Mar 2025) EllapsedTime: 83.0 seconds RetCode: 0 Status: OK PackageFile: GEOexplorer_1.12.0.tar.gz PackageFileSize: 11.26 MiB