Package: GEOexplorer Version: 1.12.0 Command: rm -rf GEOexplorer.buildbin-libdir && mkdir GEOexplorer.buildbin-libdir && F:\biocbuild\bbs-3.20-bioc\R\bin\R.exe CMD INSTALL --build --library=GEOexplorer.buildbin-libdir GEOexplorer_1.12.0.tar.gz StartedAt: 2025-04-01 08:17:13 -0400 (Tue, 01 Apr 2025) EndedAt: 2025-04-01 08:18:14 -0400 (Tue, 01 Apr 2025) EllapsedTime: 61.3 seconds RetCode: 0 Status: OK PackageFile: GEOexplorer_1.12.0.zip PackageFileSize: 7.431 MiB