Package: GEOexplorer Version: 1.12.0 Command: /home/biocbuild/bbs-3.20-bioc/R/bin/R CMD INSTALL GEOexplorer StartedAt: 2025-03-31 15:59:33 -0400 (Mon, 31 Mar 2025) EndedAt: 2025-03-31 16:00:12 -0400 (Mon, 31 Mar 2025) EllapsedTime: 39.1 seconds RetCode: 0 Status: OK