Package: GEOexplorer Version: 1.12.0 Command: rm -rf GEOexplorer.buildbin-libdir && mkdir GEOexplorer.buildbin-libdir && /Users/biocbuild/BBS/utils/build-universal.sh GEOexplorer_1.12.0.tar.gz /Library/Frameworks/R.framework/Resources/bin/R GEOexplorer.buildbin-libdir StartedAt: 2025-04-01 11:57:44 -0400 (Tue, 01 Apr 2025) EndedAt: 2025-04-01 11:59:15 -0400 (Tue, 01 Apr 2025) EllapsedTime: 90.4 seconds RetCode: 0 Status: OK PackageFile: GEOexplorer_1.12.0.tgz PackageFileSize: 7.431 MiB