Package: GENIE3 Version: 1.28.0 Command: /home/biocbuild/R/R/bin/R CMD INSTALL GENIE3 StartedAt: 2025-03-31 20:15:45 -0000 (Mon, 31 Mar 2025) EndedAt: 2025-03-31 20:15:50 -0000 (Mon, 31 Mar 2025) EllapsedTime: 5.3 seconds RetCode: 0 Status: OK