Package: GENIE3 Version: 1.28.0 Command: /home/biocbuild/bbs-3.20-bioc/R/bin/R CMD INSTALL GENIE3 StartedAt: 2025-03-31 15:12:15 -0400 (Mon, 31 Mar 2025) EndedAt: 2025-03-31 15:12:20 -0400 (Mon, 31 Mar 2025) EllapsedTime: 5.2 seconds RetCode: 0 Status: OK